BEGIN:VCALENDAR
VERSION:2.0
PRODID:-//ChamberMaster//Event Calendar 2.0//EN
METHOD:PUBLISH
X-PUBLISHED-TTL:P3D
REFRESH-INTERVAL:P3D
CALSCALE:GREGORIAN
BEGIN:VEVENT
DTSTART:20180522T130000Z
DTEND:20180522T140000Z
X-MICROSOFT-CDO-ALLDAYEVENT:FALSE
SUMMARY:Debrief with USTR on U.S.-Indonesia Trade and Investment Framework Agreement (TIFA)
DESCRIPTION:The U.S. Government and Government of Indonesia held annual Trade and Investment Framework Agreement (TIFA) discussions on May 14 in Jakarta\, Indonesia. The discussion covered a range of issues of interest to the U.S. business community\, including data flows\, e-commerce\, agricultural trade\, and intellectual property.\n\n\n\nPlease join us for a debrief following the discussions with Bartholomew Thanhauser\, Director for Southeast Asia and the Pacific at USTR.\n\n\n\nPlease email Kim Yaeger at kyaeger@usasean.org and Shannon Hayden at shayden@uschamber.com with any questions.
X-ALT-DESC;FMTTYPE=text/html:<span style="font-family: arial\, helvetica\, sans-serif\; font-size: 16px\;">The U.S. Government and Government of Indonesia held annual Trade and Investment Framework Agreement (</span>TIFA<span style="font-family: arial\, helvetica\, sans-serif\; font-size: 16px\;">) discussions on May 14 in Jakarta\, Indonesia. The discussion covered a range of issues of interest to the U.S. business community\, including data flows\, e-commerce\, agricultural trade\, and intellectual property.</span><br style="font-family: arial\, helvetica\, sans-serif\; font-size: 16px\;" />\n<br style="font-family: arial\, helvetica\, sans-serif\; font-size: 16px\;" />\n<span style="font-family: arial\, helvetica\, sans-serif\; font-size: 16px\;">Please join us for a debrief following the discussions with Bartholomew&nbsp\;</span>Thanhauser<span style="font-family: arial\, helvetica\, sans-serif\; font-size: 16px\;">\, Director for Southeast Asia and the Pacific at&nbsp\;</span>USTR<span style="font-family: arial\, helvetica\, sans-serif\; font-size: 16px\;">.</span><br style="font-family: arial\, helvetica\, sans-serif\; font-size: 16px\;" />\n<br style="font-family: arial\, helvetica\, sans-serif\; font-size: 16px\;" />\n<span style="font-family: arial\, helvetica\, sans-serif\; font-size: 16px\;">Please email Kim&nbsp\;</span>Yaeger<span style="font-family: arial\, helvetica\, sans-serif\; font-size: 16px\;">&nbsp\;at&nbsp\;</span><a href="mailto:kyaeger@usasean.org" style="font-family: arial\, helvetica\, sans-serif\; font-size: 16px\;">kyaeger@usasean.org</a><span style="font-family: arial\, helvetica\, sans-serif\; font-size: 16px\;">&nbsp\;and Shannon Hayden at&nbsp\;</span><a href="mailto:shayden@uschamber.com" style="font-family: arial\, helvetica\, sans-serif\; font-size: 16px\;">shayden@uschamber.com</a><span style="font-family: arial\, helvetica\, sans-serif\; font-size: 16px\;">&nbsp\;with any questions.</span>
LOCATION:U.S. Chamber of Commerce 1615 H Street\, NW Washington\, DC
UID:e.9078.6552
SEQUENCE:3
DTSTAMP:20260419T220457Z
URL:http://usasean.memberzone.com/events/details/debrief-with-ustr-on-u-s-indonesia-trade-and-investment-framework-agreement-tifa-6552
END:VEVENT

END:VCALENDAR
