BEGIN:VCALENDAR
VERSION:2.0
PRODID:-//ChamberMaster//Event Calendar 2.0//EN
METHOD:PUBLISH
X-PUBLISHED-TTL:P3D
REFRESH-INTERVAL:P3D
CALSCALE:GREGORIAN
BEGIN:VEVENT
DTSTART:20180419T150000Z
DTEND:20180419T160000Z
X-MICROSOFT-CDO-ALLDAYEVENT:FALSE
SUMMARY:Debrief with USTR on the U.S.-Thailand TIFA Discussion
DESCRIPTION:The U.S. government held a Trade and Investment Framework Agreement (TIFA) discussion with the Government of Thailand on April 10 in Washington\, DC. Please join the Council and the U.S. Chamber of Commerce on April 19 for a joint debrief with Karl Ehlers\, Acting Assistant U.S. Trade Representative for Southeast Asia and the Pacific\, and Marta Prado\, Director for Southeast Asia and the Pacific\, to hear an overview of the discussion.\n\n\n\nPlease contact Ella Duangkaew at eduangkaew@usasean.org and Javiera Gallardo at jgallardo@uschamber.com with any questions.
X-ALT-DESC;FMTTYPE=text/html:<span style="color:black\;"><span style="font-family:arial\,sans-serif\;"><span style="font-size:12.0pt\;">The U.S. government held a Trade and Investment Framework Agreement (TIFA) discussion with the Government of Thailand on April 10 in Washington\, DC. Please join the Council and the U.S. Chamber of Commerce on April 19 for a joint debrief with <strong>Karl Ehlers</strong>\, Acting Assistant U.S. Trade Representative for Southeast Asia and the Pacific\, and <strong>Marta Prado</strong>\, Director for Southeast Asia and the Pacific\, to hear an overview of the discussion.<br />\n<br />\nPlease contact Ella Duangkaew at <a href="mailto:eduangkaew@usasean.org">eduangkaew@usasean.org</a> and Javiera Gallardo at <a href="mailto:jgallardo@uschamber.com">jgallardo@uschamber.com</a> with any questions.&nbsp\;</span></span></span><span style="font-family: &quot\;Arial&quot\;\,sans-serif\; font-size: 12pt\; mso-fareast-font-family: Calibri\; mso-fareast-theme-font: minor-latin\; mso-ansi-language: EN-US\; mso-fareast-language: EN-US\; mso-bidi-language: AR-SA\;"><font color="#000000"> </font></span>
LOCATION:US-ASEAN Business Council 1101 17th St NW\, Suite 411 Washington\, DC
UID:e.9078.6525
SEQUENCE:3
DTSTAMP:20260419T220408Z
URL:http://usasean.memberzone.com/events/details/debrief-with-ustr-on-the-u-s-thailand-tifa-discussion-6525
END:VEVENT

END:VCALENDAR
