BEGIN:VCALENDAR
VERSION:2.0
PRODID:-//ChamberMaster//Event Calendar 2.0//EN
METHOD:PUBLISH
X-PUBLISHED-TTL:P3D
REFRESH-INTERVAL:P3D
CALSCALE:GREGORIAN
BEGIN:VEVENT
DTSTART:20200915T060000Z
DTEND:20200915T070000Z
X-MICROSOFT-CDO-ALLDAYEVENT:FALSE
SUMMARY:Data Governance Sub-Committee Meeting - September 15\, 2020
DESCRIPTION:
X-ALT-DESC;FMTTYPE=text/html:
LOCATION:Dial-in
UID:e.9078.8290
SEQUENCE:3
DTSTAMP:20260424T074246Z
URL:http://usasean.memberzone.com/events/details/data-governance-sub-committee-meeting-september-15-2020-8290
END:VEVENT

END:VCALENDAR
