BEGIN:VCALENDAR
VERSION:2.0
PRODID:-//ChamberMaster//Event Calendar 2.0//EN
METHOD:PUBLISH
X-PUBLISHED-TTL:P3D
REFRESH-INTERVAL:P3D
CALSCALE:GREGORIAN
BEGIN:VEVENT
DTSTART:20190913T013000Z
DTEND:20190913T023000Z
X-MICROSOFT-CDO-ALLDAYEVENT:FALSE
SUMMARY:Data Governance Sub-Committee Meeting - Sep 13\, 2019
DESCRIPTION:
X-ALT-DESC;FMTTYPE=text/html:
LOCATION:US-ASEAN Business Council 100 Beach Road\, Shaw Tower\, #22-04/05 Singapore 189702
UID:e.9078.8012
SEQUENCE:3
DTSTAMP:20260424T224048Z
URL:http://usasean.memberzone.com/events/details/data-governance-sub-committee-meeting-sep-13-2019-8012
END:VEVENT

END:VCALENDAR
