BEGIN:VCALENDAR
VERSION:2.0
PRODID:-//ChamberMaster//Event Calendar 2.0//EN
METHOD:PUBLISH
X-PUBLISHED-TTL:P3D
REFRESH-INTERVAL:P3D
CALSCALE:GREGORIAN
BEGIN:VEVENT
DTSTART:20200702T010000Z
DTEND:20200702T020000Z
X-MICROSOFT-CDO-ALLDAYEVENT:FALSE
SUMMARY:Data Governance Sub-Committee Meeting - July 2\, 2020
DESCRIPTION:
X-ALT-DESC;FMTTYPE=text/html:
LOCATION:Dial-in
UID:e.9078.8230
SEQUENCE:3
DTSTAMP:20260424T050533Z
URL:http://usasean.memberzone.com/events/details/data-governance-sub-committee-meeting-july-2-2020-8230
END:VEVENT

END:VCALENDAR
