BEGIN:VCALENDAR
VERSION:2.0
PRODID:-//ChamberMaster//Event Calendar 2.0//EN
METHOD:PUBLISH
X-PUBLISHED-TTL:P3D
REFRESH-INTERVAL:P3D
CALSCALE:GREGORIAN
BEGIN:VEVENT
DTSTART:20240710T133000Z
DTEND:20240710T143000Z
X-MICROSOFT-CDO-ALLDAYEVENT:FALSE
SUMMARY:Customs\, Trade and Supply Chains Committee Call
DESCRIPTION:Customs\, Trade and Supply Chains Committee Call\, 10 July 2024 \n\nFeaturing Rajah & Tann expert guest speakers on aviation\, shipping\, and trade \n\nProposed Agenda\n\nPart 1 Rajah & Tann presentation on aviation\, shipping and trade trends out of Singapore and in ASEAN \n\n9:30-10:10 AM ET/9:30PM-10:10PM SGT\n\n	Paul Ng\, Head of Aviation\n	Kendall Tan\, Head of Shipping and International Trade Practice and Brunei Business Unit\n	Kala Anandarajah\,BBM (Ms)\, Head of Competition & Antitrust and Trade\n\n(bios sent with event invitation)\n\n\n\nPart 2 Internal Committee matters\n\n10:10AM-10:20AM ET/10:10PM-1030PM SGT\n\n1. Member Survey insights and IPEF deep dive sessions\n\n2. Outcomes of ASEAN Customs DG mission and DEFA\n\n3. Upcoming Activities\n\na. possible mission to ASEAN Senior Officials for Environment (ASOEN)\n\nb. ADB\n\nc. U.S. DOT alignment ahead of US-ABC Mission to ASEAN Transport Ministers Meeting\n\n4. Other Matters
X-ALT-DESC;FMTTYPE=text/html:<u><strong>Customs\, Trade and Supply Chains Committee Call\, 10 July 2024&nbsp\;</strong></u><br />\nFeaturing&nbsp\;Rajah &amp\; Tann expert guest speakers on aviation\, shipping\, and trade&nbsp\;<br />\n<strong>Proposed Agenda<br />\nPart 1 Rajah &amp\; Tann presentation on aviation\, shipping and trade trends out of Singapore and in ASEAN&nbsp\;<br />\n9:30-10:10 AM ET/9:30PM-10:10PM SGT</strong>\n<ol>\n	<li style="font-size:11pt\;font-family:Aptos\, sans-serif\;">Paul Ng\, Head of Aviation</li>\n	<li style="font-size:11pt\;font-family:Aptos\, sans-serif\;">Kendall Tan\, Head of Shipping and International Trade Practice and Brunei Business Unit</li>\n	<li style="font-size:11pt\;font-family:Aptos\, sans-serif\;"><strong><span style="font-weight:normal\;"><span style="font-family:arial\,sans-serif\;"><span style="font-size:10pt\;">Kala Anandarajah\,BBM (Ms)\, Head</span></span></span></strong>&nbsp\;<strong><span style="font-weight:normal\;"><span style="font-family:arial\,sans-serif\;"><span style="font-size:10pt\;">of </span></span></span></strong><span style="font-family:arial\,sans-serif\;"><span style="font-size:10pt\;">Competition &amp\; Antitrust and Trade</span></span></li>\n</ol>\n(bios sent with event invitation)<br />\n<br />\n<span style="font-size: 16px\; text-align: justify\;"><span style="font-family: arial\, sans-serif\;"><span style="font-size: 10pt\;"><strong>Part 2&nbsp\;Internal Committee matters</strong></span></span></span><br style="font-size: 16px\; text-align: justify\;" />\n<strong style="font-size: 16px\; text-align: justify\;"><span style="background-image: initial\; background-position: initial\; background-size: initial\; background-repeat: initial\; background-attachment: initial\; background-origin: initial\; background-clip: initial\;"><span style="font-family: arial\, sans-serif\;"><span style="font-size: 10pt\;">10:10AM-10:20AM ET/10:10PM-1030PM SGT</span></span></span></strong><br />\n1. Member Survey insights and IPEF deep dive sessions<br />\n2. Outcomes of ASEAN Customs DG mission and DEFA<br />\n3. Upcoming Activities<br />\na. possible mission to ASEAN Senior Officials for Environment (ASOEN)<br />\nb.&nbsp\;ADB<br />\nc. U.S. DOT alignment ahead of US-ABC Mission to ASEAN Transport Ministers Meeting<br />\n4. Other Matters
LOCATION:Virtual Meeting over Zoom (Dial in details and proposed agenda provided upon registration)
UID:e.9078.9332
SEQUENCE:3
DTSTAMP:20260422T122846Z
URL:http://usasean.memberzone.com/events/details/customs-trade-and-supply-chains-committee-call-9332
END:VEVENT

END:VCALENDAR
