BEGIN:VCALENDAR
VERSION:2.0
PRODID:-//ChamberMaster//Event Calendar 2.0//EN
METHOD:PUBLISH
X-PUBLISHED-TTL:P3D
REFRESH-INTERVAL:P3D
CALSCALE:GREGORIAN
BEGIN:VEVENT
DTSTART;VALUE=DATE:20181022
DTEND;VALUE=DATE:20181023
TRANSP:TRANSPARENT
X-MICROSOFT-CDO-ALLDAYEVENT:TRUE
SUMMARY:Customs Technology Workshop with the CPTFWG
DESCRIPTION:Please join us for a one day workshop alongside the October meeting of the ASEAN Customs Procedures and Trade Facilitation Working Group (CPTFWG) for a discussion on the potential of transformative technologies to support customs solutions and ASEAN integration. The event will explore the trade facilitation and supply chain security implications of emerging technologies\, including distributed ledger technology\, advanced data analytics\, artificial intelligence\, and global data standards.
X-ALT-DESC;FMTTYPE=text/html:Please join us for a one day workshop alongside the October meeting of the ASEAN Customs Procedures and Trade Facilitation Working Group (CPTFWG) for a discussion on the potential of transformative technologies to support customs solutions and ASEAN integration. The event will explore the trade facilitation and supply chain security implications of emerging technologies\, including distributed ledger technology\, advanced data analytics\, artificial intelligence\, and global data standards.<br />\n&nbsp\;
LOCATION:Yogyakarta\, Indonesia
UID:e.9078.7691
SEQUENCE:3
DTSTAMP:20260420T065959Z
URL:http://usasean.memberzone.com/events/details/customs-technology-workshop-with-the-cptfwg-7691
END:VEVENT

END:VCALENDAR
