BEGIN:VCALENDAR
VERSION:2.0
PRODID:-//ChamberMaster//Event Calendar 2.0//EN
METHOD:PUBLISH
X-PUBLISHED-TTL:P3D
REFRESH-INTERVAL:P3D
CALSCALE:GREGORIAN
BEGIN:VEVENT
DTSTART:20240508T010000Z
DTEND:20240508T020000Z
X-MICROSOFT-CDO-ALLDAYEVENT:FALSE
SUMMARY:Customs Q2 Committee Call and Business Mission 1st Planning Call
DESCRIPTION:Customs Q2 Committee Call and Business Mission 1st Planning Call (June 5 - 6 in Phu Quoc\, Viet Nam)
X-ALT-DESC;FMTTYPE=text/html:Customs Q2 Committee Call and Business Mission 1st Planning Call (June 5 - 6 in Phu Quoc\, Viet Nam)
LOCATION:Zoom (Virtual)
UID:e.9078.9283
SEQUENCE:3
DTSTAMP:20260422T091644Z
URL:http://usasean.memberzone.com/events/details/customs-q2-committee-call-and-business-mission-1st-planning-call-9283
END:VEVENT

END:VCALENDAR
