BEGIN:VCALENDAR
VERSION:2.0
PRODID:-//ChamberMaster//Event Calendar 2.0//EN
METHOD:PUBLISH
X-PUBLISHED-TTL:P3D
REFRESH-INTERVAL:P3D
CALSCALE:GREGORIAN
BEGIN:VEVENT
DTSTART:20180611T130000Z
DTEND:20180611T140000Z
X-MICROSOFT-CDO-ALLDAYEVENT:FALSE
SUMMARY:Customs Committee Quarterly Call\, June 11
DESCRIPTION:Please join us for a planning call for the Customs and Trade Facilitation Committee to review the Mission to the ASEAN Directors General of Customs Meeting and discuss the Committee's next activities.
X-ALT-DESC;FMTTYPE=text/html:Please join us for a planning call for the&nbsp\;Customs and Trade Facilitation&nbsp\;Committee to review the Mission to the ASEAN&nbsp\;Directors General of Customs Meeting and discuss the Committee&#39\;s next activities.&nbsp\;<br />\n<br />\n&nbsp\;
LOCATION:Conference Call (details to be distributed to registrants)
UID:e.9078.6588
SEQUENCE:3
DTSTAMP:20260419T235420Z
URL:http://usasean.memberzone.com/events/details/customs-committee-quarterly-call-june-11-6588
END:VEVENT

END:VCALENDAR
