BEGIN:VCALENDAR
VERSION:2.0
PRODID:-//ChamberMaster//Event Calendar 2.0//EN
METHOD:PUBLISH
X-PUBLISHED-TTL:P3D
REFRESH-INTERVAL:P3D
CALSCALE:GREGORIAN
BEGIN:VEVENT
DTSTART:20180227T020000Z
DTEND:20180227T030000Z
X-MICROSOFT-CDO-ALLDAYEVENT:FALSE
SUMMARY:Customs Committee Quarterly Call\, February 2018
DESCRIPTION:Please join us for the Customs and Trade Facilitation Committee's first planning call of 2018. The call will review the 2018 work plan and begin discussions for the 2018 ASEAN Directors General of Customs Meeting\, which is scheduled for May 8-10 in Malaysia. The draft work plan and call agenda will be distributed to registrants ahead of the call.
X-ALT-DESC;FMTTYPE=text/html:Please join us for the Customs and Trade Facilitation Committee&#39\;s first planning call of 2018. The call will review the 2018 work plan and begin discussions for the 2018 ASEAN Directors General of Customs Meeting\, which is scheduled for May 8-10 in Malaysia. The draft work plan and call agenda will be distributed to registrants ahead of the call.&nbsp\;&nbsp\;&nbsp\;&nbsp\;&nbsp\;&nbsp\;&nbsp\;&nbsp\;
LOCATION:Conference call (dial-in details to be distributed to registrants)
UID:e.9078.6472
SEQUENCE:3
DTSTAMP:20260419T164723Z
URL:http://usasean.memberzone.com/events/details/customs-committee-quarterly-call-february-2018-6472
END:VEVENT

END:VCALENDAR
