BEGIN:VCALENDAR
VERSION:2.0
PRODID:-//ChamberMaster//Event Calendar 2.0//EN
METHOD:PUBLISH
X-PUBLISHED-TTL:P3D
REFRESH-INTERVAL:P3D
CALSCALE:GREGORIAN
BEGIN:VEVENT
DTSTART:20191127T000000Z
DTEND:20191127T010000Z
X-MICROSOFT-CDO-ALLDAYEVENT:FALSE
SUMMARY:Customs Committee Call
DESCRIPTION:
X-ALT-DESC;FMTTYPE=text/html:
LOCATION:
UID:e.9078.8082
SEQUENCE:3
DTSTAMP:20260424T185316Z
URL:http://usasean.memberzone.com/events/details/customs-committee-call-8082
END:VEVENT

END:VCALENDAR
