BEGIN:VCALENDAR
VERSION:2.0
PRODID:-//ChamberMaster//Event Calendar 2.0//EN
METHOD:PUBLISH
X-PUBLISHED-TTL:P3D
REFRESH-INTERVAL:P3D
CALSCALE:GREGORIAN
BEGIN:VEVENT
DTSTART:20181214T010000Z
DTEND:20181214T020000Z
X-MICROSOFT-CDO-ALLDAYEVENT:FALSE
SUMMARY:Customs and Trade Facilitation Committee Fourth Quarter Meeting - 2018
DESCRIPTION:The US-ASEAN Business Council will hold its fourth quarter Customs and Trade Facilitation Committee Meeting to update members on recent events and discuss the 2019 work plan.
X-ALT-DESC;FMTTYPE=text/html:The US-ASEAN Business Council will hold its fourth quarter Customs and Trade Facilitation Committee Meeting to update members on recent events and discuss the 2019 work plan.&nbsp\;
LOCATION:US-ASEAN Business Council 100 Beach Road #22-04/05 Shaw Tower Singapore 189702
UID:e.9078.7749
SEQUENCE:3
DTSTAMP:20260425T133245Z
URL:http://usasean.memberzone.com/events/details/customs-and-trade-facilitation-committee-fourth-quarter-meeting-2018-7749
END:VEVENT

END:VCALENDAR
