BEGIN:VCALENDAR
VERSION:2.0
PRODID:-//ChamberMaster//Event Calendar 2.0//EN
METHOD:PUBLISH
X-PUBLISHED-TTL:P3D
REFRESH-INTERVAL:P3D
CALSCALE:GREGORIAN
BEGIN:VEVENT
DTSTART;VALUE=DATE:20130917
DTEND;VALUE=DATE:20130919
TRANSP:TRANSPARENT
X-MICROSOFT-CDO-ALLDAYEVENT:TRUE
SUMMARY:CSR Asia Summit 2013\, Bangkok\, Thailand
DESCRIPTION:Theme\nOver the past 20 years many Asian countries have grown at an accelerated pace\, driven by and benefiting businesses in every sector\, and lifting hundreds of millions out of poverty. But this rapid pace has also been volatile\, and has left Asia with issues such as growing inequality\, social cohesion\, rapid urbanization\, environmental challenges\, water shortages\, and natural disasters. \n\n	As a result\, businesses in Asia are faced with a tough question - how is it possible to grow responsibly\, ensure economic development is more inclusive\, and make essential products and services accessible for all?\n\n	The CSR Asia Summit will help companies and stakeholders find answers. Business leaders and experts will identify some of the key challenges and discuss solutions that integrate CSR into core business\, build relationships with key partners\, and protect brand reputation. But businesses\, as important drivers of growth and innovation\, have more to offer: the Summit will help identify business strategies that contribute to meeting Asia's social and environmental challenges and help steer us toward a more sustainable and equitable future.\n\n	 \n\n	\n		\n			\n				Objectives\n		\n		\n			\n				\n					\n						\n							Invigorate and inspire the CSR Asia network of business leaders to connect with their peers and partners and to take on a leadership role in CSR in their companies and countries.\n						\n							\n								Elevate innovative solutions by Asian businesses\, share knowledge and cutting edge thought leadership on Asian social and environmental issues.\n						\n						\n							\n								Engage the CSR Asia network in a process of visioning for the future that helps companies and stakeholders anticipate challenges and opportunities.
X-ALT-DESC;FMTTYPE=text/html:<p class="title01" style="color: rgb(148\, 0\, 0)\; font-family: Arial\, Helvetica\, sans-serif\; font-size: 14px\; font-weight: bold\; text-align: justify\;">\n	Theme</p>\n<span class="content01" style="color: rgb(71\, 71\, 71)\; font-family: Arial\, Helvetica\, sans-serif\; text-align: justify\;">Over the past 20 years many Asian countries have grown at an accelerated pace\, driven by and benefiting businesses in every sector\, and lifting hundreds of millions out of poverty. But this rapid pace has also been volatile\, and has left Asia with issues such as growing inequality\, social cohesion\, rapid urbanization\, environmental challenges\, water shortages\, and natural disasters.&nbsp\;</span>\n<p class="content01" style="color: rgb(71\, 71\, 71)\; font-family: Arial\, Helvetica\, sans-serif\; text-align: justify\;">\n	As a result\, businesses in Asia are faced with a tough question - how is it possible to grow responsibly\, ensure economic development is more inclusive\, and make essential products and services accessible for all?</p>\n<p class="content01" style="color: rgb(71\, 71\, 71)\; font-family: Arial\, Helvetica\, sans-serif\; text-align: justify\;">\n	The CSR Asia Summit will help companies and stakeholders find answers. Business leaders and experts will identify some of the key challenges and discuss solutions that integrate CSR into core business\, build relationships with key partners\, and protect brand reputation. But businesses\, as important drivers of growth and innovation\, have more to offer: the Summit will help identify business strategies that contribute to meeting Asia&rsquo\;s social and environmental challenges and help steer us toward a more sustainable and equitable future.<br />\n	&nbsp\;</p>\n<table border="0" cellpadding="1" cellspacing="1" style="color: rgb(71\, 71\, 71)\; font-family: Arial\, Helvetica\, sans-serif\; text-align: justify\;">\n	<tbody>\n		<tr>\n			<td class="title01" style="color: rgb(148\, 0\, 0)\; font-size: 14px\; font-weight: bold\; padding-bottom: 10px\; padding-top: 10px\;">\n				Objectives</td>\n		</tr>\n		<tr>\n			<td align="center" class="content01">\n				<div align="left">\n					<ul>\n						<li>\n							Invigorate and inspire the CSR Asia network of business leaders to connect with their peers and partners and to take on a leadership role in CSR in their companies and countries.</li>\n						<li>\n							<div align="left">\n								Elevate innovative solutions by Asian businesses\, share knowledge and cutting edge thought leadership on Asian social and environmental issues.</div>\n						</li>\n						<li>\n							<div align="left">\n								Engage the CSR Asia network in a process of visioning for the future that helps companies and stakeholders anticipate challenges and opportunities.</div>\n						</li>\n					</ul>\n				</div>\n			</td>\n		</tr>\n	</tbody>\n</table>\n<br />\n
LOCATION:Centara Grand at Central Ladprao Bangkok
UID:e.9078.894
SEQUENCE:3
DTSTAMP:20260421T160547Z
URL:http://usasean.memberzone.com/events/details/csr-asia-summit-2013-bangkok-thailand-09-17-2013-894
END:VEVENT

END:VCALENDAR
