BEGIN:VCALENDAR
VERSION:2.0
PRODID:-//ChamberMaster//Event Calendar 2.0//EN
METHOD:PUBLISH
X-PUBLISHED-TTL:P3D
REFRESH-INTERVAL:P3D
CALSCALE:GREGORIAN
BEGIN:VEVENT
DTSTART:20200528T010000Z
DTEND:20200528T023000Z
X-MICROSOFT-CDO-ALLDAYEVENT:FALSE
SUMMARY:Crisis-Mode R&D: A Conversation with GSK\, Dohme\, and Sanofi
DESCRIPTION:Developing a COVID-19 vaccine has brought together big business competitors. Sanofi Pasteur\, GlaxoSmithKline and MSD discuss vaccine development and Philippine healthcare systems under crisis
X-ALT-DESC;FMTTYPE=text/html:Developing a COVID-19 vaccine has brought together big business competitors. Sanofi Pasteur\, GlaxoSmithKline and MSD discuss vaccine development and Philippine healthcare systems under crisis
LOCATION:Zoom Virtual Roundtable
UID:e.9078.8194
SEQUENCE:3
DTSTAMP:20260424T080623Z
URL:http://usasean.memberzone.com/events/details/crisis-mode-r-d-a-conversation-with-gsk-dohme-and-sanofi-8194
END:VEVENT

END:VCALENDAR
