BEGIN:VCALENDAR
VERSION:2.0
PRODID:-//ChamberMaster//Event Calendar 2.0//EN
METHOD:PUBLISH
X-PUBLISHED-TTL:P3D
REFRESH-INTERVAL:P3D
CALSCALE:GREGORIAN
BEGIN:VEVENT
DTSTART;VALUE=DATE:20120924
DTEND;VALUE=DATE:20120925
TRANSP:TRANSPARENT
X-MICROSOFT-CDO-ALLDAYEVENT:TRUE
SUMMARY:Copy of Roundtable Discussion with H.E. Jero Wacik - Sep 24 2012
DESCRIPTION:
X-ALT-DESC;FMTTYPE=text/html:
LOCATION:
UID:e.9078.360
SEQUENCE:3
DTSTAMP:20260424T185634Z
URL:http://usasean.memberzone.com/events/details/copy-of-roundtable-discussion-with-h-e-jero-wacik-sep-24-2012-09-24-2012-360
END:VEVENT

END:VCALENDAR
