BEGIN:VCALENDAR
VERSION:2.0
PRODID:-//ChamberMaster//Event Calendar 2.0//EN
METHOD:PUBLISH
X-PUBLISHED-TTL:P3D
REFRESH-INTERVAL:P3D
CALSCALE:GREGORIAN
BEGIN:VEVENT
DTSTART:20140523T120000Z
DTEND:20140523T130000Z
X-MICROSOFT-CDO-ALLDAYEVENT:FALSE
SUMMARY:Conference Call with U.S. Ambassador to Thailand\, Kristie A. Kenney
DESCRIPTION:The US-ASEAN Business Council and the U.S. Chamber of Commerce will hold a conference call with U.S. Ambassador to Thailand\, Kristie Kenney\, to discuss the current situation in Thailand.  The Ambassador will update members on the latest political developments\, following the Thai military's proclamation of a coup today\, and its imposition of martial law earlier this week.
X-ALT-DESC;FMTTYPE=text/html:<span style="font-size: 10pt\;"><span style="font-family: arial\,sans-serif\;">The US-ASEAN Business Council and&nbsp\;the </span></span><font size="2">U.S. Chamber of Commerce</font><span style="font-size: 10pt\;"><span style="font-family: arial\,sans-serif\;">&nbsp\;will hold a conference call with U.S. Ambassador to Thailand\, Kristie Kenney\, to discuss the current situation in Thailand.&nbsp\; The Ambassador will update members on the latest political developments\, following the Thai military&#39\;s proclamation of a coup today\, and its imposition of martial law earlier this week.&nbsp\;</span></span><br />\n&nbsp\;
LOCATION:
UID:e.9078.1153
SEQUENCE:3
DTSTAMP:20260420T125900Z
URL:http://usasean.memberzone.com/events/details/conference-call-with-u-s-ambassador-to-thailand-kristie-a-kenney-05-23-2014-1153
END:VEVENT

END:VCALENDAR
