BEGIN:VCALENDAR
VERSION:2.0
PRODID:-//ChamberMaster//Event Calendar 2.0//EN
METHOD:PUBLISH
X-PUBLISHED-TTL:P3D
REFRESH-INTERVAL:P3D
CALSCALE:GREGORIAN
BEGIN:VEVENT
DTSTART;VALUE=DATE:20120417
DTEND;VALUE=DATE:20120418
TRANSP:TRANSPARENT
X-MICROSOFT-CDO-ALLDAYEVENT:TRUE
SUMMARY:Conference Call to Discuss Vietnam's IT-related Decrees - Apr 17 2012
DESCRIPTION:
X-ALT-DESC;FMTTYPE=text/html:
LOCATION:
UID:e.9078.357
SEQUENCE:3
DTSTAMP:20260425T023609Z
URL:http://usasean.memberzone.com/events/details/conference-call-to-discuss-vietnam-s-it-related-decrees-apr-17-2012-04-17-2012-357
END:VEVENT

END:VCALENDAR
