BEGIN:VCALENDAR
VERSION:2.0
PRODID:-//ChamberMaster//Event Calendar 2.0//EN
METHOD:PUBLISH
X-PUBLISHED-TTL:P3D
REFRESH-INTERVAL:P3D
CALSCALE:GREGORIAN
BEGIN:VEVENT
DTSTART:20180920T010000Z
DTEND:20180920T020000Z
X-MICROSOFT-CDO-ALLDAYEVENT:FALSE
SUMMARY:Conference Call for the US-ASEAN Internship Program
DESCRIPTION:Agenda:\n\n	Brief program introduction \n	US ASEAN Internship Program progress update \n	Technical details on how members can participate (person of contact\, integration of their internship listings\, and next steps)\n	Discussion and Q&A session
X-ALT-DESC;FMTTYPE=text/html:<span style="font-size:16px\;"><span style="font-family:arial\;">Agenda:</span></span>\n<ol>\n	<li><span style="font-size:16px\;"><span style="font-family:arial\;">Brief program introduction&nbsp\;</span></span></li>\n	<li><span style="font-size:16px\;"><span style="font-family:arial\;">US ASEAN Internship Program progress update&nbsp\;</span></span></li>\n	<li><span style="font-size:16px\;"><span style="font-family:arial\;">Technical details on how members can participate (person of contact\, integration of their internship listings\, and next steps)</span></span></li>\n	<li><span style="font-size:16px\;"><span style="font-family:arial\;">Discussion and Q&amp\;A session</span></span></li>\n</ol>\n
LOCATION:Call
UID:e.9078.7668
SEQUENCE:3
DTSTAMP:20260420T051507Z
URL:http://usasean.memberzone.com/events/details/conference-call-for-the-us-asean-internship-program-7668
END:VEVENT

END:VCALENDAR
