BEGIN:VCALENDAR
VERSION:2.0
PRODID:-//ChamberMaster//Event Calendar 2.0//EN
METHOD:PUBLISH
X-PUBLISHED-TTL:P3D
REFRESH-INTERVAL:P3D
CALSCALE:GREGORIAN
BEGIN:VEVENT
DTSTART:20140618T120000Z
DTEND:20140618T130000Z
X-MICROSOFT-CDO-ALLDAYEVENT:FALSE
SUMMARY:Conference Call for the Incentivizing Localization Workstream (IICF)
DESCRIPTION:Please join us for the first conference call of the Incentivizing Localization workstream\, to discuss priorities and deliverables of the workstream. If you are interested in joining the Incentivizing Localization workstream\, please register for this call.\n\n\n\nThe Incentivizing Localization workstream is one of three workstreams contributing to the Indonesia ICT Consultative Forum (IICF). The IICF is an ongoing forum to engage the Indonesian government and local stakeholders on ICT policy in Indonesia.\n\n\n\nFor minutes from the last IICF Executive Committee meeting\, click here.\n\n\n\nFor more background on the IICF click here .
X-ALT-DESC;FMTTYPE=text/html:<span style="color: rgb(51\, 51\, 51)\; font-style: normal\; font-variant: normal\; font-weight: normal\; letter-spacing: normal\; orphans: auto\; text-align: start\; text-indent: 0px\; text-transform: none\; white-space: normal\; widows: auto\; word-spacing: 0px\; -webkit-text-stroke-width: 0px\; font-family: arial\, sans-serif\; font-size: 16px\; line-height: 25.600000381469727px\; float: none\; display: inline !important\; background-color: rgb(255\, 255\, 255)\;">Please join us for the first conference call of the Incentivizing Localization workstream\, to discuss priorities and deliverables of the workstream. If you are interested in joining the Incentivizing Localization workstream</span><span style="color: rgb(51\, 51\, 51)\; font-style: normal\; font-variant: normal\; font-weight: normal\; letter-spacing: normal\; orphans: auto\; text-align: start\; text-indent: 0px\; text-transform: none\; white-space: normal\; widows: auto\; word-spacing: 0px\; -webkit-text-stroke-width: 0px\; font-family: arial\, sans-serif\; font-size: 16px\; line-height: 25.600000381469727px\; float: none\; display: inline !important\; background-color: rgb(255\, 255\, 255)\;">\, please register for this call.</span><br style="color: rgb(51\, 51\, 51)\; font-style: normal\; font-variant: normal\; font-weight: normal\; letter-spacing: normal\; orphans: auto\; text-align: start\; text-indent: 0px\; text-transform: none\; white-space: normal\; widows: auto\; word-spacing: 0px\; -webkit-text-stroke-width: 0px\; font-family: arial\, sans-serif\; font-size: 16px\; line-height: 25.600000381469727px\; background-color: rgb(255\, 255\, 255)\;" />\n<br style="color: rgb(51\, 51\, 51)\; font-style: normal\; font-variant: normal\; font-weight: normal\; letter-spacing: normal\; orphans: auto\; text-align: start\; text-indent: 0px\; text-transform: none\; white-space: normal\; widows: auto\; word-spacing: 0px\; -webkit-text-stroke-width: 0px\; font-family: arial\, sans-serif\; font-size: 16px\; line-height: 25.600000381469727px\; background-color: rgb(255\, 255\, 255)\;" />\n<span style="color: rgb(51\, 51\, 51)\; font-style: normal\; font-variant: normal\; font-weight: normal\; letter-spacing: normal\; orphans: auto\; text-align: start\; text-indent: 0px\; text-transform: none\; white-space: normal\; widows: auto\; word-spacing: 0px\; -webkit-text-stroke-width: 0px\; font-family: arial\, sans-serif\; font-size: 16px\; line-height: 25.600000381469727px\; float: none\; display: inline !important\; background-color: rgb(255\, 255\, 255)\;">The Incentivizing Localization workstream</span><span style="color: rgb(51\, 51\, 51)\; font-style: normal\; font-variant: normal\; font-weight: normal\; letter-spacing: normal\; orphans: auto\; text-align: start\; text-indent: 0px\; text-transform: none\; white-space: normal\; widows: auto\; word-spacing: 0px\; -webkit-text-stroke-width: 0px\; font-family: arial\, sans-serif\; font-size: 16px\; line-height: 25.600000381469727px\; float: none\; display: inline !important\; background-color: rgb(255\, 255\, 255)\;"> is one of three workstreams contributing to the Indonesia ICT Consultative Forum (IICF). The IICF is an ongoing forum to engage the Indonesian government and local stakeholders on ICT policy in Indonesia.</span><br style="color: rgb(51\, 51\, 51)\; font-style: normal\; font-variant: normal\; font-weight: normal\; letter-spacing: normal\; orphans: auto\; text-align: start\; text-indent: 0px\; text-transform: none\; white-space: normal\; widows: auto\; word-spacing: 0px\; -webkit-text-stroke-width: 0px\; font-family: arial\, sans-serif\; font-size: 16px\; line-height: 25.600000381469727px\; background-color: rgb(255\, 255\, 255)\;" />\n<br style="color: rgb(51\, 51\, 51)\; font-style: normal\; font-variant: normal\; font-weight: normal\; letter-spacing: normal\; orphans: auto\; text-align: start\; text-indent: 0px\; text-transform: none\; white-space: normal\; widows: auto\; word-spacing: 0px\; -webkit-text-stroke-width: 0px\; font-family: arial\, sans-serif\; font-size: 16px\; line-height: 25.600000381469727px\; background-color: rgb(255\, 255\, 255)\;" />\n<span style="font-family:arial\,sans-serif\;"><span style="font-size:12.0pt\;"><a href="http://cloud.chambermaster.com/userfiles/UserFiles/chambers/9078/File/ICT/2014/MinutesforIICFApril1Mtg.pdf">For minutes from the last IICF Executive Committee meeting\, click here</a>.<br />\n<br />\n<a href="http://cloud.chambermaster.com/userfiles/UserFiles/chambers/9078/File/ICT/2014/IICFBackground.pdf">For more background on the IICF click here</a> .</span></span>
LOCATION:Conference call details will be distributed to registrants prior to the call.
UID:e.9078.1169
SEQUENCE:3
DTSTAMP:20260420T160941Z
URL:http://usasean.memberzone.com/events/details/conference-call-for-the-incentivizing-localization-workstream-iicf-06-18-2014-1169
END:VEVENT

END:VCALENDAR
