BEGIN:VCALENDAR
VERSION:2.0
PRODID:-//ChamberMaster//Event Calendar 2.0//EN
METHOD:PUBLISH
X-PUBLISHED-TTL:P3D
REFRESH-INTERVAL:P3D
CALSCALE:GREGORIAN
BEGIN:VEVENT
DTSTART:20140613T023000Z
DTEND:20140613T033000Z
X-MICROSOFT-CDO-ALLDAYEVENT:FALSE
SUMMARY:Conference Call for the Emerging Digital Trends Workstream (IICF)
DESCRIPTION:Please join us for the first conference call of the Emerging Digital Trends Workstream\, to discuss priorities and deliverables of the workstream. If you are interested in joining the Emerging Digital Trends workstream\, please register for this call.\n\n\n\nThe Emerging Digital Trends Workstream is one of three workstreams contributing to the Indonesia ICT Consultative Forum (IICF). Call invites for the other two workstreams (Incentivizing Localization and Regulatory Insights) will follow. The IICF is an ongoing forum to engage the Indonesian government and local stakeholders on ICT policy in Indonesia.\n\n\n\nFor an update on the last IICF Executive Committee meeting\, click here.\n\n\n\nFor more background on the IICF click here .
X-ALT-DESC;FMTTYPE=text/html:<span style="font-family:arial\,sans-serif\;"><span style="font-size:12.0pt\;">Please join us for the first conference call of the Emerging Digital Trends Workstream\, to discuss priorities and deliverables of the workstream. If you are interested in joining the Emerging Digital Trends workstream\, please register for this call.<br />\n<br />\nThe Emerging Digital Trends Workstream is one of three workstreams contributing to the Indonesia ICT Consultative Forum (IICF). Call invites for the other two workstreams (Incentivizing Localization and Regulatory Insights) will follow. The IICF is an ongoing forum to engage the Indonesian government and local stakeholders on ICT policy in Indonesia.<br />\n<br />\n<a href="http://www.usasean.org/article/2014/04/24/indonesia-ict-consultative-forum-iicf-update">For an update on the last IICF Executive Committee meeting\, click here.</a><br />\n<br />\n<a href="http://cloud.chambermaster.com/userfiles/UserFiles/chambers/9078/File/ICT/2014/AbouttheIICF.pdf">For more background on the IICF click here</a> .</span></span>
LOCATION:Conference call details will be distributed to registrants prior to the call.
UID:e.9078.1162
SEQUENCE:3
DTSTAMP:20260420T104537Z
URL:http://usasean.memberzone.com/events/details/conference-call-for-the-emerging-digital-trends-workstream-iicf-06-12-2014-1162
END:VEVENT

END:VCALENDAR
