BEGIN:VCALENDAR
VERSION:2.0
PRODID:-//ChamberMaster//Event Calendar 2.0//EN
METHOD:PUBLISH
X-PUBLISHED-TTL:P3D
REFRESH-INTERVAL:P3D
CALSCALE:GREGORIAN
BEGIN:VEVENT
DTSTART:20121109T190000Z
DTEND:20121109T220000Z
X-MICROSOFT-CDO-ALLDAYEVENT:FALSE
SUMMARY:Compliance Workshop on Indonesia's MoT Reg 59
DESCRIPTION:Compliance Workshop on Indonesia's Ministry of Trade Regulation No. 59 on Importer Identification Number (API). The Workshop will be led by Director-General of Foreign Trade at the Ministry\, Deddy Saleh\, and joined by his technical and expert staff to go through each steps on how to comply.
X-ALT-DESC;FMTTYPE=text/html:Compliance Workshop on Indonesia&#39\;s Ministry of Trade Regulation No. 59 on Importer Identification Number (API). The Workshop will be led by Director-General of Foreign Trade at the Ministry\, Deddy Saleh\, and joined by his technical and expert staff to go through each steps on how to comply.
LOCATION:Jakarta
UID:e.9078.626
SEQUENCE:3
DTSTAMP:20260424T155308Z
URL:http://usasean.memberzone.com/events/details/compliance-workshop-on-indonesia-s-mot-reg-59-11-09-2012-626
END:VEVENT

END:VCALENDAR
