BEGIN:VCALENDAR
VERSION:2.0
PRODID:-//ChamberMaster//Event Calendar 2.0//EN
METHOD:PUBLISH
X-PUBLISHED-TTL:P3D
REFRESH-INTERVAL:P3D
CALSCALE:GREGORIAN
BEGIN:VEVENT
DTSTART;VALUE=DATE:20131128
DTEND;VALUE=DATE:20131129
TRANSP:TRANSPARENT
X-MICROSOFT-CDO-ALLDAYEVENT:TRUE
SUMMARY:Competition for Success
DESCRIPTION:November 28\, 2013\n\n \n\n	17:00: Registration\n	17:15: Music performance\n	17:30: Remarks by Mr. Nguyen Huy Loc\, Editor-in-chief\, Vietnam Students Newspaper\n	17:35: Remarks by Representative of Foreign Trade University\n	17:40: Presentation by Vamsi Mohan\, CEO\, Coca-Cola Vietnam\n	18:30: Q&A\n	19:25: Closing remarks by US-ASEAN Business Council Representative
X-ALT-DESC;FMTTYPE=text/html:<div style="font-family: Arial\, Verdana\, sans-serif\; font-size: 12px\; color: rgb(34\, 34\, 34)\; background-color: rgb(255\, 255\, 255)\; "><span style="font-family: 'times new roman'\, serif\; "><span style="font-size: 12pt\; ">November 28\, 2013</span></span><br />\n&nbsp\;\n<ul style="padding-top: 0px\; padding-right: 40px\; padding-bottom: 0px\; padding-left: 40px\; ">\n	<li style="margin-top: 12pt\; margin-right: 0in\; margin-bottom: 10pt\; "><span style="font-family: 'times new roman'\, serif\; "><span style="font-size: 12pt\; ">17:00: Registration</span></span></li>\n	<li style="margin-top: 12pt\; margin-right: 0in\; margin-bottom: 10pt\; "><span style="font-family: 'times new roman'\, serif\; "><span style="font-size: 12pt\; ">17:15: Music performance</span></span></li>\n	<li style="margin-top: 12pt\; margin-right: 0in\; margin-bottom: 10pt\; "><span style="font-family: 'times new roman'\, serif\; "><span style="font-size: 12pt\; ">17:30: Remarks by Mr. Nguyen&nbsp\;Huy&nbsp\;Loc\, Editor-in-chief\, Vietnam Students Newspaper</span></span></li>\n	<li style="margin-top: 12pt\; margin-right: 0in\; margin-bottom: 10pt\; "><span style="font-family: 'times new roman'\, serif\; "><span style="font-size: 12pt\; ">17:35: Remarks by Representative of&nbsp\;</span></span><span style="font-family: 'times new roman'\, serif\; "><span style="font-size: 12pt\; ">Foreign Trade University</span></span></li>\n	<li style="margin-top: 12pt\; margin-right: 0in\; margin-bottom: 10pt\; "><span style="font-family: 'times new roman'\, serif\; "><span style="font-size: 12pt\; ">17:40: Presentation by&nbsp\;Vamsi&nbsp\;Mohan\, CEO\, Coca-Cola Vietnam</span></span></li>\n	<li style="margin-top: 12pt\; margin-right: 0in\; margin-bottom: 10pt\; "><span style="font-family: 'times new roman'\, serif\; "><span style="font-size: 12pt\; ">18:30: Q&amp\;A</span></span></li>\n	<li style="margin-top: 12pt\; margin-right: 0in\; margin-bottom: 10pt\; ">19:25: Closing remarks by US-ASEAN Business Council Representative</li>\n</ul>\n</div>\n
LOCATION:Foreign Trade University\, 91 Chua Lang Street\, Hanoi
UID:e.9078.1014
SEQUENCE:3
DTSTAMP:20260421T092717Z
URL:http://usasean.memberzone.com/events/details/competition-for-success-11-28-2013-1014
END:VEVENT

END:VCALENDAR
