BEGIN:VCALENDAR
VERSION:2.0
PRODID:-//ChamberMaster//Event Calendar 2.0//EN
METHOD:PUBLISH
X-PUBLISHED-TTL:P3D
REFRESH-INTERVAL:P3D
CALSCALE:GREGORIAN
BEGIN:VEVENT
DTSTART:20231016T023000Z
DTEND:20231016T033000Z
X-MICROSOFT-CDO-ALLDAYEVENT:FALSE
SUMMARY:Clean Energy Roundtable with A/S Arun Venkataraman
DESCRIPTION:Join us for a roundtable discussion with Assistant Secretary of Commerce Arun Venkataraman to discuss energy transition in Southeast Asia\, clean energy challenges and priorities in the region\, including the potential for low-carbon solutions like biofuels\, carbon capture\, hydrogen\, and renewables.\n\n\n\nThis roundtable is in-person only\, with limited seating.
X-ALT-DESC;FMTTYPE=text/html:<span style="caret-color: rgb(0\, 0\, 0)\; color: rgb(0\, 0\, 0)\; font-family: &quot\;Times New Roman&quot\;\, serif\; font-size: 16px\; text-align: center\;">Join us for a roundtable discussion with Assistant Secretary of Commerce Arun Venkataraman to discuss energy transition in Southeast Asia\, clean energy challenges and priorities in the region\, including the potential for low-carbon solutions like biofuels\, carbon capture\, hydrogen\, and renewables.<br />\n<br />\nThis roundtable is in-person only\, with limited seating.</span>
LOCATION:USABC Office Address: 460 Alexandra Road\, #26-06\, mTower\, Singapore 119963
UID:e.9078.9168
SEQUENCE:3
DTSTAMP:20260421T160452Z
URL:http://usasean.memberzone.com/events/details/clean-energy-roundtable-with-a-s-arun-venkataraman-9168
END:VEVENT

END:VCALENDAR
