BEGIN:VCALENDAR
VERSION:2.0
PRODID:-//ChamberMaster//Event Calendar 2.0//EN
METHOD:PUBLISH
X-PUBLISHED-TTL:P3D
REFRESH-INTERVAL:P3D
CALSCALE:GREGORIAN
BEGIN:VEVENT
DTSTART:20211216T010000Z
DTEND:20211216T023000Z
X-MICROSOFT-CDO-ALLDAYEVENT:FALSE
SUMMARY:Challenges and Opportunities for ASEAN's Circular Economy
DESCRIPTION:The US-ASEAN Business Council is pleased to host this upcoming workshop highlighting two conversations impacting the circular economy in ASEAN. \n\n \n\nPanel 1: Global Agreement to End Plastic Waste in the Environment: How did we get here? What is the current state of negotiations ahead of UNEA-5 in February?\n\n\n\nPanel 2: Sharing Best Practices to Bolster the Circular Economy: How can the current challenges posed by plastic pollution in ASEAN be addressed while also investing in the infrastructure to build a circular economy?\n\n\n\nIf you have questions or would like to register for this event\, please contact Dylan Kean (dkean@usasean.org).
X-ALT-DESC;FMTTYPE=text/html:<span style="font-family:verdana\,sans-serif\;"><span style="font-size:10.5pt\;">The US-ASEAN Business Council is pleased to host this upcoming workshop highlighting two conversations impacting the circular economy in ASEAN.&nbsp\;<br />\n&nbsp\;<br />\n<u>Panel 1: Global Agreement to End Plastic Waste in the Environment</u>: <em><span style="font-family:verdana\,sans-serif\;">How did we get here? What is the current state of negotiations ahead of UNEA-5 in February?</span></em></span></span><br />\n<br />\n<u><span style="font-family:verdana\,sans-serif\;"><span style="font-size:10.5pt\;">Panel 2: Sharing Best Practices to Bolster the Circular Economy</span></span></u><span style="font-family:verdana\,sans-serif\;"><span style="font-size:10.5pt\;">: <em><span style="font-family:verdana\,sans-serif\;">How can the current challenges posed by plastic pollution in ASEAN be addressed while also investing in the infrastructure to build a circular economy?</span></em><br />\n<br />\n<span style="font-family:verdana\,sans-serif\;">If you have questions or would like to register for this event\, please contact Dylan Kean (dkean@usasean.org).</span></span></span>
LOCATION:Zoom details will be sent upon registration
UID:e.9078.8671
SEQUENCE:3
DTSTAMP:20260422T235243Z
URL:http://usasean.memberzone.com/events/details/challenges-and-opportunities-for-asean-s-circular-economy-8671
END:VEVENT

END:VCALENDAR
