BEGIN:VCALENDAR
VERSION:2.0
PRODID:-//ChamberMaster//Event Calendar 2.0//EN
METHOD:PUBLISH
X-PUBLISHED-TTL:P3D
REFRESH-INTERVAL:P3D
CALSCALE:GREGORIAN
BEGIN:VEVENT
DTSTART:20210506T120000Z
DTEND:20210506T130000Z
X-MICROSOFT-CDO-ALLDAYEVENT:FALSE
SUMMARY:Chairman's Council Advisory Group Meeting [May 6\, 2021]
DESCRIPTION:Meeting of the USABC Chairman's Council Advisory Group. By invitation only for registered participants.
X-ALT-DESC;FMTTYPE=text/html:Meeting of the USABC Chairman&#39\;s Council Advisory Group. By invitation only for registered participants.&nbsp\;
LOCATION:Zoom dial in details to be provided for registered participants.
UID:e.9078.8456
SEQUENCE:3
DTSTAMP:20260423T145000Z
URL:http://usasean.memberzone.com/events/details/chairman-s-council-advisory-group-meeting-may-6-2021-8456
END:VEVENT

END:VCALENDAR
