BEGIN:VCALENDAR
VERSION:2.0
PRODID:-//ChamberMaster//Event Calendar 2.0//EN
METHOD:PUBLISH
X-PUBLISHED-TTL:P3D
REFRESH-INTERVAL:P3D
CALSCALE:GREGORIAN
BEGIN:VEVENT
DTSTART;VALUE=DATE:20110707
DTEND;VALUE=DATE:20110708
TRANSP:TRANSPARENT
X-MICROSOFT-CDO-ALLDAYEVENT:TRUE
SUMMARY:Chairman Gita Luncheon - Jul 7 2011
DESCRIPTION:
X-ALT-DESC;FMTTYPE=text/html:
LOCATION:
UID:e.9078.353
SEQUENCE:3
DTSTAMP:20260426T033508Z
URL:http://usasean.memberzone.com/events/details/chairman-gita-luncheon-jul-7-2011-07-07-2011-353
END:VEVENT

END:VCALENDAR
