BEGIN:VCALENDAR
VERSION:2.0
PRODID:-//ChamberMaster//Event Calendar 2.0//EN
METHOD:PUBLISH
X-PUBLISHED-TTL:P3D
REFRESH-INTERVAL:P3D
CALSCALE:GREGORIAN
BEGIN:VEVENT
DTSTART:20230613T130000Z
DTEND:20230613T134500Z
X-MICROSOFT-CDO-ALLDAYEVENT:FALSE
SUMMARY:CANCELED: Roundtable with Incoming Commercial Officer Marixell Garcia (U.S. Embassy in the Philippines)
DESCRIPTION:During the discussions\, we welcome members to share their views on the Philippines' business environment and to explore ways on how the U.S. business community could further strengthen its footprint in the country.
X-ALT-DESC;FMTTYPE=text/html:<span style="color: rgb(0\, 0\, 0)\; font-size: 11pt\; font-family: Arial\, sans-serif\;">During the discussions\, we welcome members to share their views on the Philippines&rsquo\; business environment and to explore ways on how the U.S. business community could further strengthen its footprint in the country.</span>
LOCATION:Hybrid Event
UID:e.9078.9046
SEQUENCE:3
DTSTAMP:20260421T125142Z
URL:http://usasean.memberzone.com/events/details/canceled-roundtable-with-incoming-commercial-officer-marixell-garcia-u-s-embassy-in-the-philippines-9046
END:VEVENT

END:VCALENDAR
