BEGIN:VCALENDAR
VERSION:2.0
PRODID:-//ChamberMaster//Event Calendar 2.0//EN
METHOD:PUBLISH
X-PUBLISHED-TTL:P3D
REFRESH-INTERVAL:P3D
CALSCALE:GREGORIAN
BEGIN:VEVENT
DTSTART;VALUE=DATE:20180709
DTEND;VALUE=DATE:20180711
TRANSP:TRANSPARENT
X-MICROSOFT-CDO-ALLDAYEVENT:TRUE
SUMMARY:Can Tho SME Workshop
DESCRIPTION:Dear Members\,\n\n\n\nThe Council is pleased to highlight a sponsorship opportunity in a two-day Small and Medium Enterprise (SME) workshop titled "Trade Facilitation: Integrating SMBs into Inclusive Global Value Chains". Click here for the workshop agenda.\n\n\n\nAs the Council's first SME engagement in Viet Nam this year\, the workshop is a joint initiative with Coca-Cola Vietnam and Vietnam Chamber of Commerce and Industry (VCCI). The workshop aims to provide SMEs across Mekong Delta with knowledge and practical training on becoming an integral part of global value chains and regional e-commerce. Can Tho is a leading province in Mekong Delta with many industrial or export-processing zones and home for world's biggest manufacturers.\n\n\n\nThe workshop will also host an in-depth Customs and Logistics focused SME training by experts from Viet Nam Logistics Association and Members on Tuesday\, July 10. Members are encouraged to participate on both days of the workshop.\n\nAround 200 multi-industry SME owners and senior executives from Can Tho and 13 neighboring Mekong Delta provinces are expected to join this workshop. The workshop will also be attended by senior-level dignitaries and government officials from U.S. Embassy\, Viet Nam's Ministry of Industry and Trade (MOIT)\, Viet Nam General Department of Customs\, among others.\n\n\n\nInvited senior-level dignitaries and government officials:\n\n	H.E. Daniel Kritenbrink\, U.S. Ambassador to Viet Nam\n	Mr. Tran Thanh Man\, President of Viet Nam Fatherland Front Central Committee\n	Vice Minister of Viet Nam's MOIT\n	Mr. Truong Quang Hoai Nam\, Vice Chairman of Can Tho's People Committee\n	Mr. Luong Hoang Thai\, Director General of MOIT's Multilateral Trade Policy Department\n	Mr. Nguyen Cong Binh\, Deputy Director General of Viet Nam Customs\n	Mr. Au Anh Tuan\, Director General of the Department of Customs Supervision and Control\n\nKey Dates:\n\n\n	July 3\, deadline for sponsorship confirmation and workshop materials collection
X-ALT-DESC;FMTTYPE=text/html:<div style="clear:both\;"><span style="font-family:times new roman\,serif\;"><span style="font-size:12.0pt\;">Dear Members\,<br />\n<br />\nThe Council is pleased to highlight a sponsorship opportunity in a two-day Small and Medium Enterprise (SME) workshop titled <strong>&ldquo\;Trade Facilitation: Integrating SMBs into Inclusive Global Value Chains&rdquo\;</strong>. Click <a href="https://chambermaster.blob.core.windows.net/userfiles/UserFiles/chambers/9078/File/2018_SME/Can_Tho_SME_Workshop/2018Jun19.Draft-Compiled-Agenda_SME-Workshop-in-Can-Tho.docx">here</a> for the workshop agenda.</span></span><br />\n<br />\n<span style="font-family:times new roman\,serif\;"><span style="font-size:12.0pt\;">As the Council&rsquo\;s first SME engagement in Viet Nam this year\, the workshop is a joint initiative with Coca-Cola Vietnam and Vietnam Chamber of Commerce and Industry (VCCI). The workshop aims to provide SMEs across Mekong Delta with knowledge and practical training on&nbsp\;becoming an integral part of global value chains and regional e-commerce. Can Tho is a leading province in&nbsp\;Mekong Delta with many industrial or export-processing zones and home for world&rsquo\;s biggest manufacturers.</span></span><br />\n<br />\n<span style="font-family:times new roman\,serif\;"><span style="font-size:12.0pt\;">The workshop will also host an in-depth Customs and Logistics focused SME training&nbsp\;by experts from Viet Nam Logistics Association and Members on Tuesday\, July 10. Members are encouraged to participate on both days of the workshop.</span></span><br />\n<span style="font-family:times new roman\,serif\;"><span style="font-size:12.0pt\;">Around 200 multi-industry SME owners and senior executives from Can Tho and 13 neighboring Mekong Delta provinces&nbsp\;are expected to join this workshop. The workshop will also be attended by senior-level dignitaries and government officials from U.S. Embassy\, Viet Nam&rsquo\;s Ministry of Industry and Trade (MOIT)\, Viet Nam General Department of Customs\, among others.</span></span><br />\n<br />\n<span style="font-family:times new roman\,serif\;"><span style="font-size:12.0pt\;">Invited senior-level dignitaries and government officials:</span></span>\n<ul>\n	<li style="text-align:justify\;"><span style="font-family:times new roman\,serif\;"><span style="font-size:12.0pt\;">H.E. Daniel Kritenbrink\, U.S. Ambassador to Viet Nam</span></span></li>\n	<li style="text-align:justify\;"><span style="font-family:times new roman\,serif\;"><span style="font-size:12.0pt\;">Mr. Tran Thanh Man\, President of Viet Nam Fatherland Front Central Committee</span></span></li>\n	<li style="text-align:justify\;"><span style="font-family:times new roman\,serif\;"><span style="font-size:12.0pt\;">Vice Minister of Viet Nam&rsquo\;s MOIT</span></span></li>\n	<li style="text-align:justify\;"><span style="font-family:times new roman\,serif\;"><span style="font-size:12.0pt\;">Mr. Truong Quang Hoai Nam\, Vice Chairman of Can Tho&rsquo\;s People Committee</span></span></li>\n	<li style="text-align:justify\;"><span style="font-family:times new roman\,serif\;"><span style="font-size:12.0pt\;">Mr. Luong Hoang Thai\, Director General of MOIT&rsquo\;s Multilateral Trade Policy Department</span></span></li>\n	<li style="text-align:justify\;"><span style="font-family:times new roman\,serif\;"><span style="font-size:12.0pt\;">Mr. Nguyen Cong Binh\, Deputy Director General of Viet Nam Customs</span></span></li>\n	<li style="text-align:justify\;"><span style="font-family:times new roman\,serif\;"><span style="font-size:12.0pt\;">Mr. Au Anh Tuan\, Director General of the Department of Customs Supervision and Control</span></span></li>\n</ul>\n<strong><span style="font-family:calibri\,sans-serif\;"><span style="font-size:12.0pt\;">Key Dates:</span></span></strong>\n\n<ul>\n	<li style="text-align:justify\;"><strong><span style="font-family:calibri\,sans-serif\;"><span style="font-size:12.0pt\;">July 3</span></span></strong><span style="font-family:times new roman\,serif\;"><span style="font-size:12.0pt\;">\, deadline for sponsorship confirmation and workshop materials collection</span></span></li>\n</ul>\n&nbsp\;\n\n<div style="text-align:justify\;">&nbsp\;</div>\n</div>\n
LOCATION:Can Tho's People Committee's Grand Hall\, Can Tho Minh City\, Viet Nam
UID:e.9078.6605
SEQUENCE:3
DTSTAMP:20260420T033632Z
URL:http://usasean.memberzone.com/events/details/can-tho-sme-workshop-6605
END:VEVENT

END:VCALENDAR
