BEGIN:VCALENDAR
VERSION:2.0
PRODID:-//ChamberMaster//Event Calendar 2.0//EN
METHOD:PUBLISH
X-PUBLISHED-TTL:P3D
REFRESH-INTERVAL:P3D
CALSCALE:GREGORIAN
BEGIN:VEVENT
DTSTART:20230210T021500Z
DTEND:20230210T031500Z
X-MICROSOFT-CDO-ALLDAYEVENT:FALSE
SUMMARY:Cambodia Pre-Mission Briefing with U.S. Ambassador W. Patrick Murphy
DESCRIPTION:Ahead of the Council's 2023 Cambodia Business Mission\, set to take place in Phnom Penh on February 27-28\, we are pleased to host an off-the-record virtual briefing featuring The Honorable W. Patrick Murphy\, U.S. Ambassador to Cambodia.
X-ALT-DESC;FMTTYPE=text/html:Ahead of the Council&#39\;s 2023 Cambodia Business Mission\, set to take place in Phnom Penh on February 27-28\, we are pleased to host an off-the-record virtual briefing featuring The Honorable W. Patrick Murphy\, U.S. Ambassador to Cambodia.&nbsp\;
LOCATION:Zoom
UID:e.9078.8950
SEQUENCE:3
DTSTAMP:20260421T160627Z
URL:http://usasean.memberzone.com/events/details/cambodia-pre-mission-briefing-with-u-s-ambassador-w-patrick-murphy-8950
END:VEVENT

END:VCALENDAR
