BEGIN:VCALENDAR
VERSION:2.0
PRODID:-//ChamberMaster//Event Calendar 2.0//EN
METHOD:PUBLISH
X-PUBLISHED-TTL:P3D
REFRESH-INTERVAL:P3D
CALSCALE:GREGORIAN
BEGIN:VEVENT
DTSTART:20180227T003000Z
DTEND:20180227T013000Z
X-MICROSOFT-CDO-ALLDAYEVENT:FALSE
SUMMARY:Cambodia Committee Call with Ambassador Heidt
DESCRIPTION:Cambodia Committee Call featuring the Hon. William Heidt\, U.S. Ambassador to Cambodia
X-ALT-DESC;FMTTYPE=text/html:Cambodia Committee Call featuring the Hon. William Heidt\, U.S. Ambassador to Cambodia
LOCATION:Conference Call * Call-in details will be distributed upon registration
UID:e.9078.6485
SEQUENCE:3
DTSTAMP:20260419T164723Z
URL:http://usasean.memberzone.com/events/details/cambodia-committee-call-with-ambassador-heidt-6485
END:VEVENT

END:VCALENDAR
