BEGIN:VCALENDAR
VERSION:2.0
PRODID:-//ChamberMaster//Event Calendar 2.0//EN
METHOD:PUBLISH
X-PUBLISHED-TTL:P3D
REFRESH-INTERVAL:P3D
CALSCALE:GREGORIAN
BEGIN:VEVENT
DTSTART;VALUE=DATE:20220504
DTEND;VALUE=DATE:20220506
TRANSP:TRANSPARENT
X-MICROSOFT-CDO-ALLDAYEVENT:TRUE
SUMMARY:Cambodia Business Mission 2022
DESCRIPTION:The US-ASEAN Business Council is registering senior-level executives for its annual Business Mission to Cambodia on Wednesday-Thursday\, May 4 - 5\, 2022. In light of current developments in Cambodia and based on our conversations with the Royal Government\, as well as the U.S. Embassy in Phnom Penh\, the Council is planning to return to an in-person format for the mission and follow all local COVID related protocols.
X-ALT-DESC;FMTTYPE=text/html:<span style="caret-color: rgb(0\, 0\, 0)\; color: rgb(0\, 0\, 0)\; font-family: arial\; font-size: 16px\; text-size-adjust: auto\;">The US-ASEAN Business Council is registering senior-level executives for its annual Business Mission to Cambodia on Wednesday-Thursday\, May 4 - 5\, 2022. In light of current developments in Cambodia and based on our conversations with the Royal Government\, as well as the U.S. Embassy in Phnom Penh\, the Council is planning to return to an in-person format for the mission and follow all local COVID related protocols.</span>
LOCATION:Phnom Penh\, Cambodia
UID:e.9078.8756
SEQUENCE:3
DTSTAMP:20260422T161253Z
URL:http://usasean.memberzone.com/events/details/cambodia-business-mission-2022-8756
END:VEVENT

END:VCALENDAR
