BEGIN:VCALENDAR
VERSION:2.0
PRODID:-//ChamberMaster//Event Calendar 2.0//EN
METHOD:PUBLISH
X-PUBLISHED-TTL:P3D
REFRESH-INTERVAL:P3D
CALSCALE:GREGORIAN
BEGIN:VEVENT
DTSTART:20181114T060000Z
DTEND:20181114T070000Z
X-MICROSOFT-CDO-ALLDAYEVENT:FALSE
SUMMARY:Business Roundtable with U.S. IP Enforcement Delegation: Mr. Vishal Amin and Mr. Alex Khu
DESCRIPTION:
X-ALT-DESC;FMTTYPE=text/html:
LOCATION:U.S. Embassy Jakarta Jl. Medan Merdeka Selatan No. 3-5 Jakarta 10110\, Indonesia
UID:e.9078.7740
SEQUENCE:3
DTSTAMP:20260420T105537Z
URL:http://usasean.memberzone.com/events/details/business-roundtable-with-u-s-ip-enforcement-delegation-mr-vishal-amin-and-mr-alex-khu-7740
END:VEVENT

END:VCALENDAR
