BEGIN:VCALENDAR
VERSION:2.0
PRODID:-//ChamberMaster//Event Calendar 2.0//EN
METHOD:PUBLISH
X-PUBLISHED-TTL:P3D
REFRESH-INTERVAL:P3D
CALSCALE:GREGORIAN
BEGIN:VEVENT
DTSTART:20190813T070000Z
DTEND:20190813T090000Z
X-MICROSOFT-CDO-ALLDAYEVENT:FALSE
SUMMARY:Business Roundtable with the USTR (United States Trade Representative) Delegation on Intellectual Property (IP)
DESCRIPTION:
X-ALT-DESC;FMTTYPE=text/html:
LOCATION:US-ASEAN Business Council Menara Astra\, 36th Floor (Meeting Room 36 E) Jl. Jend. Sudirman No. Kav. 5 Jakarta\, Indonesia 10220
UID:e.9078.7987
SEQUENCE:3
DTSTAMP:20260424T224236Z
URL:http://usasean.memberzone.com/events/details/business-roundtable-with-the-ustr-united-states-trade-representative-delegation-on-intellectual-property-ip-7987
END:VEVENT

END:VCALENDAR
