BEGIN:VCALENDAR
VERSION:2.0
PRODID:-//ChamberMaster//Event Calendar 2.0//EN
METHOD:PUBLISH
X-PUBLISHED-TTL:P3D
REFRESH-INTERVAL:P3D
CALSCALE:GREGORIAN
BEGIN:VEVENT
DTSTART;VALUE=DATE:20230208
DTEND;VALUE=DATE:20230211
TRANSP:TRANSPARENT
X-MICROSOFT-CDO-ALLDAYEVENT:TRUE
SUMMARY:Business Mission to the 3rd ADGMIN
DESCRIPTION:The US-ASEAN Business Council is pleased to open registration for Business Mission to the 3rd ADGMIN\, scheduled for February 8 - 10 in Boracay the Philippines (TBC). The mission will consist of a plenary engagement with ASEAN Digital Ministers\, a plenary meeting with ASEAN Digital Senior Officials (ADGSOM)\, proposed bilateral meetings with ASEAN Digital Ministers\, ASEAN Secretariat\, and key delegation members of the US Government .\n\n \n\nThis will be US-ABC's 6th consecutive signature engagement with ADGMIN representatives. It will also be the first in-person ADGMIN mission since COVID-19 pandemic.\n\n\n\n\n\nTo register\, please go to the Mission Registration page.
X-ALT-DESC;FMTTYPE=text/html:<br />\n<span style="font-size:14px\;"><span style="font-family:arial\,sans-serif\;">The US-ASEAN Business Council is pleased to open registration for <strong>Business Mission to the 3<sup>rd</sup> ADGMIN</strong>\, <strong>scheduled for February 8 - 10 in Boracay the Philippines (TBC)</strong>. The mission will consist of a plenary engagement with ASEAN Digital Ministers\, a plenary meeting with ASEAN Digital Senior Officials (ADGSOM)\, proposed bilateral meetings with ASEAN Digital Ministers\, ASEAN Secretariat\, and key delegation members of the US Government .</span><br />\n&nbsp\;<br />\n<span style="font-family:arial\,sans-serif\;">This will be US-ABC&#39\;s 6<sup>th</sup>&nbsp\;consecutive signature engagement with ADGMIN representatives. It will also be the first <strong><u>in-person</u></strong> ADGMIN mission since COVID-19 pandemic.</span></span><br />\n<br />\n<br />\n<span style="font-size:16px\;"><span style="font-size:14px\;"><span style="font-family: arial\;">To register\, please go to the<strong>&nbsp\;</strong></span><strong><a href="https://www.usasean.org/mission/registration">Mission Registration page</a><span style="font-family: arial\;">.</span></strong></span></span>
LOCATION:
UID:e.9078.8894
SEQUENCE:3
DTSTAMP:20260421T160547Z
URL:http://usasean.memberzone.com/events/details/business-mission-to-the-3rd-adgmin-8894
END:VEVENT

END:VCALENDAR
