BEGIN:VCALENDAR
VERSION:2.0
PRODID:-//ChamberMaster//Event Calendar 2.0//EN
METHOD:PUBLISH
X-PUBLISHED-TTL:P3D
REFRESH-INTERVAL:P3D
CALSCALE:GREGORIAN
BEGIN:VEVENT
DTSTART;VALUE=DATE:20141104
DTEND;VALUE=DATE:20141106
TRANSP:TRANSPARENT
X-MICROSOFT-CDO-ALLDAYEVENT:TRUE
SUMMARY:Business Alliance Consultation Session with ASEAN SMEWG and AWEN
DESCRIPTION:The Council\, through its US-ASEAN Business Alliance for Competitive SMEs\, is organizing consultation sessions with government representatives of ASEAN on SME\, the ASEAN SME Working Group (ASEAN SMEWG)\, as well as the members of ASEAN Women Entrepreneur Network (AWEN) in Bangkok\, November 4-5\, 2014. Discussions theme include the consultation and presentation on the ASEAN Online SME Academy as well as regional policy dialogue on women's entrepreneurship. The discussions will be limited to members of ASEAN SMEWG (at least 10) as well as members of AWEN (at least 10).
X-ALT-DESC;FMTTYPE=text/html:<span style="font-size:12px\;"><span style="font-family: arial\,sans-serif\;">The Council\, through its US-ASEAN Business Alliance for Competitive SMEs\, is organizing consultation sessions with government representatives of ASEAN on SME\, the ASEAN SME Working Group (ASEAN SMEWG)\, as well as the members of ASEAN Women Entrepreneur Network (AWEN) in Bangkok\, November 4-5\, 2014. Discussions theme include the consultation and presentation on the ASEAN Online SME Academy as well as regional policy dialogue on women&rsquo\;s entrepreneurship. The discussions will be limited to members of ASEAN SMEWG (at least 10) as well as members of AWEN (at least 10). </span></span>
LOCATION:Bangkok\, Thailand
UID:e.9078.1282
SEQUENCE:3
DTSTAMP:20260420T001814Z
URL:http://usasean.memberzone.com/events/details/business-alliance-consultation-session-with-asean-smewg-and-awen-11-04-2014-1282
END:VEVENT

END:VCALENDAR
