BEGIN:VCALENDAR
VERSION:2.0
PRODID:-//ChamberMaster//Event Calendar 2.0//EN
METHOD:PUBLISH
X-PUBLISHED-TTL:P3D
REFRESH-INTERVAL:P3D
CALSCALE:GREGORIAN
BEGIN:VEVENT
DTSTART;VALUE=DATE:20131106
DTEND;VALUE=DATE:20131111
TRANSP:TRANSPARENT
X-MICROSOFT-CDO-ALLDAYEVENT:TRUE
SUMMARY:Brunei Energy Exhibition
DESCRIPTION:The Energy Department Prime Minister's Office (EDPMO) is organizing a 5-day expo to focus on developing the Energy Efficiency & Conservation sector in Brunei.\n\n\n\nFor more information or to register please click here.
X-ALT-DESC;FMTTYPE=text/html:<span style="font-family:calibri\,sans-serif\;"><span style="font-size:11.0pt\;">The Energy Department Prime Minister&rsquo\;s Office (EDPMO) is organizing a 5-day expo to focus on developing the Energy Efficiency &amp\; Conservation sector in Brunei.</span></span><br />\n<br />\n<span style="font-family:verdana\;">For more information or to register please <a href="http://cloud.chambermaster.com/userfiles/UserFiles/chambers/9078/File/BruneiEnergyExhibition2013.pdf">click here</a>.</span><br />\n
LOCATION:BRIDEX Hall 2\, Jerudong\, Brunei
UID:e.9078.962
SEQUENCE:3
DTSTAMP:20260421T073850Z
URL:http://usasean.memberzone.com/events/details/brunei-energy-exhibition-11-06-2013-962
END:VEVENT

END:VCALENDAR
