BEGIN:VCALENDAR
VERSION:2.0
PRODID:-//ChamberMaster//Event Calendar 2.0//EN
METHOD:PUBLISH
X-PUBLISHED-TTL:P3D
REFRESH-INTERVAL:P3D
CALSCALE:GREGORIAN
BEGIN:VEVENT
DTSTART:20140313T010000Z
DTEND:20140313T020000Z
X-MICROSOFT-CDO-ALLDAYEVENT:FALSE
SUMMARY:Brunei Committee Quarterly Call
DESCRIPTION:Please join us to discuss the Brunei Committee's messaging\, priorities\, and programs for 2014.  A copy of the draft 2014 Work Plan can be found here . Ambassador Daniel L. Shields will join the call to weigh in on priorities for 2014.
X-ALT-DESC;FMTTYPE=text/html:<font><span style="font-size:\;"><font face="Arial\,helvetica\,sans-serif" size="3"><span style="font-size:12pt\;"><font face="Arial\,sans-serif">Please join us to discuss the Brunei Committee&#39\;s messaging\, priorities\, and programs for 2014.&nbsp\; </font><a href="http://cloud.chambermaster.com/userfiles/UserFiles/chambers/9078/File/Brunei/2014BruneiWorkPlan.docx" target="_blank">A copy of the draft 2014 Work Plan can be found here</a> . Ambassador Daniel L. Shields will join the call to weigh in on priorities for 2014.</span></font></span></font>
LOCATION:Conference call details and a discussion agenda will be distributed to registrants prior to the call.
UID:e.9078.1080
SEQUENCE:3
DTSTAMP:20260420T155016Z
URL:http://usasean.memberzone.com/events/details/brunei-committee-quarterly-call-03-12-2014-1080
END:VEVENT

END:VCALENDAR
