BEGIN:VCALENDAR
VERSION:2.0
PRODID:-//ChamberMaster//Event Calendar 2.0//EN
METHOD:PUBLISH
X-PUBLISHED-TTL:P3D
REFRESH-INTERVAL:P3D
CALSCALE:GREGORIAN
BEGIN:VEVENT
DTSTART:20210913T140000Z
DTEND:20210913T150000Z
X-MICROSOFT-CDO-ALLDAYEVENT:FALSE
SUMMARY:Briefing with Nancy Leou\, Office of the Vice President on VP Harris' Singapore and Vietnam Visits
DESCRIPTION:We invite our members to join us for a virtual briefing by Nancy Leou\, Special Advisor to the Vice President for East Asia\, Southeast Asia\, and the Pacific. Nancy will share with members outcomes of the Vice President's recent visits to Singapore and Vietnam\, followed by a Q&A discussion.\n\n\n\nNancy Leou is currently serving as the Special Advisor to the Vice President for East Asia\, Southeast Asia\, and the Pacific.  Nancy previously served as Deputy Director of the Office of Korean Affairs at the State Department.  She held the position of Political and Economic Section Chief at the U.S. Consulate General in Shanghai and Director for China and Asian Economic Affairs at the National Security Council.  A career Foreign Service Officer\, Nancy also served at the U.S. Embassy in Beijing and the U.S. Consulates in Hong Kong and Ho Chi Minh City.  Nancy received her BA in History from UC Berkeley.  She holds masters degrees in international relations from Georgetown University and in national security strategy from the National War College.
X-ALT-DESC;FMTTYPE=text/html:<span style="font-size:12.0pt\;">We invite our members to join us for a virtual briefing by Nancy Leou\, Special Advisor to the Vice President for East Asia\, Southeast Asia\, and the Pacific. Nancy will share with members outcomes of the Vice President&#39\;s recent visits to Singapore and Vietnam\, followed by a Q&amp\;A discussion.<br />\n<br />\nNancy Leou is currently serving as the Special Advisor to the Vice President for East Asia\, Southeast Asia\, and the Pacific. &nbsp\;Nancy previously served as Deputy Director of the Office of Korean Affairs at the State Department. &nbsp\;She held the position of Political and Economic Section Chief at the U.S. Consulate General in Shanghai and Director for China and Asian Economic Affairs at the National Security Council.&nbsp\; A career Foreign Service Officer\, Nancy also served at the U.S. Embassy in Beijing and the U.S. Consulates in Hong Kong and Ho Chi Minh City.&nbsp\; Nancy received her BA in History from UC Berkeley.&nbsp\; She holds masters degrees in international relations from Georgetown University and in national security strategy from the National War College.</span><br />\n&nbsp\;
LOCATION:
UID:e.9078.8566
SEQUENCE:3
DTSTAMP:20260423T064051Z
URL:http://usasean.memberzone.com/events/details/briefing-with-nancy-leou-office-of-the-vice-president-on-vp-harris-singapore-and-vietnam-visits-8566
END:VEVENT

END:VCALENDAR
