BEGIN:VCALENDAR
VERSION:2.0
PRODID:-//ChamberMaster//Event Calendar 2.0//EN
METHOD:PUBLISH
X-PUBLISHED-TTL:P3D
REFRESH-INTERVAL:P3D
CALSCALE:GREGORIAN
BEGIN:VEVENT
DTSTART:20130807T133000Z
DTEND:20130807T160000Z
X-MICROSOFT-CDO-ALLDAYEVENT:FALSE
SUMMARY:Briefing with Kirk Wagar- US Ambassador Designate to Singapore
DESCRIPTION:
X-ALT-DESC;FMTTYPE=text/html:
LOCATION:USABAC Office 1101 17th NW #411 Washington. DC 20036
UID:e.9078.883
SEQUENCE:3
DTSTAMP:20260421T173810Z
URL:http://usasean.memberzone.com/events/details/briefing-with-kirk-wagar-us-ambassador-designate-to-singapore-08-07-2013-883
END:VEVENT

END:VCALENDAR
