BEGIN:VCALENDAR
VERSION:2.0
PRODID:-//ChamberMaster//Event Calendar 2.0//EN
METHOD:PUBLISH
X-PUBLISHED-TTL:P3D
REFRESH-INTERVAL:P3D
CALSCALE:GREGORIAN
BEGIN:VEVENT
DTSTART:20140723T180000Z
DTEND:20140723T190000Z
X-MICROSOFT-CDO-ALLDAYEVENT:FALSE
SUMMARY:Briefing with Karl Ehlers
DESCRIPTION:Myanmar Discussion with Karl Ehlers
X-ALT-DESC;FMTTYPE=text/html:Myanmar Discussion with Karl Ehlers&nbsp\;&nbsp\;&nbsp\;&nbsp\;&nbsp\;&nbsp\;&nbsp\;
LOCATION:US-ABC Offices 1101 17th Street NW
UID:e.9078.1213
SEQUENCE:3
DTSTAMP:20260420T072302Z
URL:http://usasean.memberzone.com/events/details/briefing-with-karl-ehlers-07-23-2014-1213
END:VEVENT

END:VCALENDAR
