BEGIN:VCALENDAR
VERSION:2.0
PRODID:-//ChamberMaster//Event Calendar 2.0//EN
METHOD:PUBLISH
X-PUBLISHED-TTL:P3D
REFRESH-INTERVAL:P3D
CALSCALE:GREGORIAN
BEGIN:VEVENT
DTSTART:20240312T123000Z
DTEND:20240312T133000Z
X-MICROSOFT-CDO-ALLDAYEVENT:FALSE
SUMMARY:Briefing with Ambassador Brian McFeeters (ret.)
DESCRIPTION:
X-ALT-DESC;FMTTYPE=text/html:
LOCATION:US-ASEAN Business Council 1101 17th St. NW\, Washington\, D.C. 20036
UID:e.9078.9257
SEQUENCE:3
DTSTAMP:20260422T051817Z
URL:http://usasean.memberzone.com/events/details/briefing-with-ambassador-brian-mcfeeters-ret-9257
END:VEVENT

END:VCALENDAR
