BEGIN:VCALENDAR
VERSION:2.0
PRODID:-//ChamberMaster//Event Calendar 2.0//EN
METHOD:PUBLISH
X-PUBLISHED-TTL:P3D
REFRESH-INTERVAL:P3D
CALSCALE:GREGORIAN
BEGIN:VEVENT
DTSTART:20220210T140000Z
DTEND:20220210T150000Z
X-MICROSOFT-CDO-ALLDAYEVENT:FALSE
SUMMARY:Briefing with Amb. McClelland
DESCRIPTION:Briefing with US Ambassador to Brunei Darussalam\, Caryn McClelland
X-ALT-DESC;FMTTYPE=text/html:Briefing with US Ambassador to Brunei Darussalam\,&nbsp\;Caryn McClelland
LOCATION:
UID:e.9078.8704
SEQUENCE:3
DTSTAMP:20260422T193329Z
URL:http://usasean.memberzone.com/events/details/briefing-with-amb-mcclelland-8704
END:VEVENT

END:VCALENDAR
