BEGIN:VCALENDAR
VERSION:2.0
PRODID:-//ChamberMaster//Event Calendar 2.0//EN
METHOD:PUBLISH
X-PUBLISHED-TTL:P3D
REFRESH-INTERVAL:P3D
CALSCALE:GREGORIAN
BEGIN:VEVENT
DTSTART:20140128T030000Z
DTEND:20140128T040000Z
X-MICROSOFT-CDO-ALLDAYEVENT:FALSE
SUMMARY:Briefing w/ USAID Indonesia Health Team
DESCRIPTION:Briefing w/ USAID Indonesia Health Team
X-ALT-DESC;FMTTYPE=text/html:Briefing w/ USAID Indonesia Health Team
LOCATION:U.S. Commercial Service Office Wisma Metropolitan II\, 3rd Floor\, Jl. Jendral Sudirman Kav 29-31 Jakarta 12920\, Indonesia
UID:e.9078.1021
SEQUENCE:3
DTSTAMP:20260421T035607Z
URL:http://usasean.memberzone.com/events/details/briefing-w-usaid-indonesia-health-team-01-27-2014-1021
END:VEVENT

END:VCALENDAR
