BEGIN:VCALENDAR
VERSION:2.0
PRODID:-//ChamberMaster//Event Calendar 2.0//EN
METHOD:PUBLISH
X-PUBLISHED-TTL:P3D
REFRESH-INTERVAL:P3D
CALSCALE:GREGORIAN
BEGIN:VEVENT
DTSTART:20180928T183000Z
DTEND:20180928T193000Z
X-MICROSOFT-CDO-ALLDAYEVENT:FALSE
SUMMARY:Briefing on Vietnam with Vu Tu Thanh\, US-ABC Senior Country Representative
DESCRIPTION:Please join us for an off-the-record Briefing on Vietnam with the Council's Deputy Regional Managing Director and Senior Country Representative for Vietnam\, Vu Tu Thanh. Thanh will share his perspectives on the current political and economic environment in Vietnam\, including the country's current legislative agenda and how it may affect our members.
X-ALT-DESC;FMTTYPE=text/html:<span style="font-size:12px\;"><span style="font-family:arial\;">Please join us for an off-the-record Briefing on Vietnam with the Council&#39\;s Deputy Regional Managing Director and Senior Country Representative for Vietnam\, Vu Tu Thanh. Thanh will share his perspectives on the current political and economic environment in Vietnam\, including the country&#39\;s current legislative agenda and how it may affect our members.</span></span>
LOCATION:US-ASEAN Business Council 1101 17th Street\, NW\, Suite 411 Washington\, DC 20036
UID:e.9078.7698
SEQUENCE:3
DTSTAMP:20260420T053736Z
URL:http://usasean.memberzone.com/events/details/briefing-on-vietnam-with-vu-tu-thanh-us-abc-senior-country-representative-7698
END:VEVENT

END:VCALENDAR
