BEGIN:VCALENDAR
VERSION:2.0
PRODID:-//ChamberMaster//Event Calendar 2.0//EN
METHOD:PUBLISH
X-PUBLISHED-TTL:P3D
REFRESH-INTERVAL:P3D
CALSCALE:GREGORIAN
BEGIN:VEVENT
DTSTART:20231108T153000Z
DTEND:20231108T163000Z
X-MICROSOFT-CDO-ALLDAYEVENT:FALSE
SUMMARY:Briefing on Vietnam's Non-Market Economy Status Review
DESCRIPTION:Briefing on Vietnam's Non-Market Economy Status under U.S. Department of Commerce Review.\n\nFeaturing Ms. Nguyen Thuy Hong\, Deputy Chief of Mission\, Embassy of Vietnam in the United States.
X-ALT-DESC;FMTTYPE=text/html:<span style="font-size:14px\;"><span style="letter-spacing:0.75pt\;"><span style="color:#333333\;"><span style="font-family:arial\,sans-serif\;">Briefing on&nbsp\;Vietnam&rsquo\;s Non-Market Economy Status under U.S. Department of Commerce Review.<br />\n<em>Featuring&nbsp\;</em></span></span></span><em><span style="font-size:12px\;"><span style="font-size:14px\;"><span style="font-family:arial\;"><span style="letter-spacing:0.75pt\;"><span style="color:#333333\;">Ms. Nguyen Thuy Hong\,&nbsp\;Deputy Chief of Mission\, Embassy of Vietnam in the United States.</span></span></span></span></span></em></span><br />\n&nbsp\;
LOCATION:In-person only at: The US-ASEAN Business Council 1101 17th Street NW\, Suite 411\, Washington\, DC 20036
UID:e.9078.9197
SEQUENCE:3
DTSTAMP:20260421T160843Z
URL:http://usasean.memberzone.com/events/details/briefing-on-vietnam-s-non-market-economy-status-review-9197
END:VEVENT

END:VCALENDAR
