BEGIN:VCALENDAR
VERSION:2.0
PRODID:-//ChamberMaster//Event Calendar 2.0//EN
METHOD:PUBLISH
X-PUBLISHED-TTL:P3D
REFRESH-INTERVAL:P3D
CALSCALE:GREGORIAN
BEGIN:VEVENT
DTSTART:20180730T190000Z
DTEND:20180730T200000Z
X-MICROSOFT-CDO-ALLDAYEVENT:FALSE
SUMMARY:Briefing on Timor-Leste's ASEAN Accession
DESCRIPTION:Please join us for an off-the-record briefing with Edmund Sim on Timor-Leste's application to join ASEAN. Timor-Leste has been working with ASEAN for several years to become the Association's 11th member and looks increasingly likely to join within the next few years. Successful accession to ASEAN would connect the  country to Southeast Asia's broader scene\, creating new opportunities for commercial\, political\, and cultural contacts. Mr. Sim\, a Partner of Appleton Luff and a Professor at the National University of Singapore Law School\, has been an important voice in advancing that accession process. He has kindly offered to brief the Council on Timor-Leste's application status and what would happen when the country joins ASEAN.\n\n\n\nMr. Sim's biography can be found at this link.
X-ALT-DESC;FMTTYPE=text/html:Please join us for an off-the-record briefing with Edmund Sim on Timor-Leste&#39\;s application to join ASEAN. Timor-Leste has been working with ASEAN for several years to become the Association&#39\;s 11th member and looks increasingly likely to join within the next few years. Successful accession to ASEAN would connect the&nbsp\; country to Southeast Asia&#39\;s broader scene\, creating new opportunities&nbsp\;for commercial\, political\, and cultural contacts. Mr. Sim\, a Partner of Appleton Luff and a Professor at the National University of Singapore Law School\, has been an important voice in advancing that accession process. He has kindly offered to brief the Council on Timor-Leste&#39\;s application status and what would happen when the country joins ASEAN.<br />\n<br />\nMr. Sim&#39\;s biography <a href="http://appletonluff.com/edmund-w-sim/">can be found at this link</a>.
LOCATION:US-ASEAN Business Council 1101 17th Street NW\, Suite 411 Washington\, DC
UID:e.9078.7633
SEQUENCE:3
DTSTAMP:20260420T015956Z
URL:http://usasean.memberzone.com/events/details/briefing-on-timor-leste-s-asean-accession-7633
END:VEVENT

END:VCALENDAR
