BEGIN:VCALENDAR
VERSION:2.0
PRODID:-//ChamberMaster//Event Calendar 2.0//EN
METHOD:PUBLISH
X-PUBLISHED-TTL:P3D
REFRESH-INTERVAL:P3D
CALSCALE:GREGORIAN
BEGIN:VEVENT
DTSTART;VALUE=DATE:20111110
DTEND;VALUE=DATE:20111111
TRANSP:TRANSPARENT
X-MICROSOFT-CDO-ALLDAYEVENT:TRUE
SUMMARY:Briefing on IFC-WB Doing Business Report - Nov 10 2011
DESCRIPTION:
X-ALT-DESC;FMTTYPE=text/html:
LOCATION:
UID:e.9078.343
SEQUENCE:3
DTSTAMP:20260425T221815Z
URL:http://usasean.memberzone.com/events/details/briefing-on-ifc-wb-doing-business-report-nov-10-2011-11-10-2011-343
END:VEVENT

END:VCALENDAR
