BEGIN:VCALENDAR
VERSION:2.0
PRODID:-//ChamberMaster//Event Calendar 2.0//EN
METHOD:PUBLISH
X-PUBLISHED-TTL:P3D
REFRESH-INTERVAL:P3D
CALSCALE:GREGORIAN
BEGIN:VEVENT
DTSTART:20231109T150000Z
DTEND:20231109T160000Z
X-MICROSOFT-CDO-ALLDAYEVENT:FALSE
SUMMARY:Briefing on Business Environment and Investment Opportunities in Nghe An Province\, Vietnam
DESCRIPTION:The Council is pleased to invite you to a Briefing on business environment and investment opportunities in Nghe An province\, Vietnam with a delegation of the province's senior leadership\, led by Mr. Nguyen Duc Trung\, Chairman of the People's Committee of Nghe An Province on November 9\, 2023 at 10:00 AM at our Washington D.C. office.
X-ALT-DESC;FMTTYPE=text/html:<span style="color:#212121\;"><span style="font-family:arial\,sans-serif\;">The&nbsp\;Council is pleased to invite you to a <strong>Briefing on business environment and investment opportunities in Nghe An province\, Vietnam</strong> with a delegation of the province&rsquo\;s senior leadership\, led by Mr. Nguyen Duc Trung\, Chairman of the People&rsquo\;s Committee of Nghe An Province on November 9\, 2023 at 10:00 AM at our Washington D.C. office.</span></span>
LOCATION:The US-ASEAN Business Council 1101 17th Street NW\, Suite 411\, Washington\, DC 20036
UID:e.9078.9194
SEQUENCE:3
DTSTAMP:20260421T173933Z
URL:http://usasean.memberzone.com/events/details/briefing-on-business-environment-and-investment-opportunities-in-nghe-an-province-vietnam-9194
END:VEVENT

END:VCALENDAR
