BEGIN:VCALENDAR
VERSION:2.0
PRODID:-//ChamberMaster//Event Calendar 2.0//EN
METHOD:PUBLISH
X-PUBLISHED-TTL:P3D
REFRESH-INTERVAL:P3D
CALSCALE:GREGORIAN
BEGIN:VEVENT
DTSTART:20180618T024500Z
DTEND:20180618T040000Z
X-MICROSOFT-CDO-ALLDAYEVENT:FALSE
SUMMARY:Briefing on ASEAN Smart Cities Network
DESCRIPTION:Briefing on ASEAN Smart Cities Network
X-ALT-DESC;FMTTYPE=text/html:Briefing on ASEAN Smart Cities Network
LOCATION:AmCham Singapore\, 1 Scotts Road\, Shaw Centre\, #23-03/04/05\, Singapore 228208
UID:e.9078.6567
SEQUENCE:3
DTSTAMP:20260420T014213Z
URL:http://usasean.memberzone.com/events/details/briefing-on-asean-smart-cities-network-6567
END:VEVENT

END:VCALENDAR
