BEGIN:VCALENDAR
VERSION:2.0
PRODID:-//ChamberMaster//Event Calendar 2.0//EN
METHOD:PUBLISH
X-PUBLISHED-TTL:P3D
REFRESH-INTERVAL:P3D
CALSCALE:GREGORIAN
BEGIN:VEVENT
DTSTART:20121120T134500Z
DTEND:20121120T144500Z
X-MICROSOFT-CDO-ALLDAYEVENT:FALSE
SUMMARY:Briefing for Christine Brown\, Director for Southeast Asia at USTR
DESCRIPTION:Briefing for new USTR Southeast Asia Director Christine Brown\, Tuesday\, November 20\, 8:45-9:45 am DC time
X-ALT-DESC;FMTTYPE=text/html:Briefing for new USTR Southeast Asia Director Christine Brown\, Tuesday\, November 20\, 8:45-9:45 am DC time
LOCATION:1776 Eye Street\, NW\, Suite 1050\, Washington\, DC
UID:e.9078.644
SEQUENCE:3
DTSTAMP:20260424T160152Z
URL:http://usasean.memberzone.com/events/details/briefing-for-christine-brown-director-for-southeast-asia-at-ustr-11-20-2012-644
END:VEVENT

END:VCALENDAR
